BEGIN:VCALENDAR
VERSION:2.0
PRODID:-//112.109.81.194//NONSGML kigkonsult.se iCalcreator 2.26.9//
CALSCALE:GREGORIAN
METHOD:PUBLISH
X-FROM-URL:http://beachvolleyball.co.nz
X-WR-TIMEZONE:Pacific/Auckland
BEGIN:VTIMEZONE
TZID:Pacific/Auckland
X-LIC-LOCATION:Pacific/Auckland
BEGIN:STANDARD
DTSTART:20210404T030000
TZOFFSETFROM:+1300
TZOFFSETTO:+1200
RDATE:20220403T030000
TZNAME:NZST
END:STANDARD
BEGIN:DAYLIGHT
DTSTART:20200927T020000
TZOFFSETFROM:+1200
TZOFFSETTO:+1300
RDATE:20210926T020000
TZNAME:NZDT
END:DAYLIGHT
END:VTIMEZONE
BEGIN:VEVENT
UID:ai1ec-274@beachvolleyball.co.nz/wp
DTSTAMP:20210121T194757Z
CATEGORIES:
CONTACT:
DESCRIPTION:
DTSTART;VALUE=DATE:20180208
DTEND;VALUE=DATE:20180211
SEQUENCE:0
SUMMARY:1 court booked – Mayne Weatherall
URL:http://beachvolleyball.co.nz/event/1-court-booked-mayne-weatherall/
END:VEVENT
BEGIN:VEVENT
UID:ai1ec-269@beachvolleyball.co.nz/wp
DTSTAMP:20210121T194757Z
CATEGORIES:
CONTACT:Tim Kirk
DESCRIPTION:
DTSTART;VALUE=DATE:20180303
DTEND;VALUE=DATE:20180304
SEQUENCE:0
SUMMARY:Waikato Secondary Schools Beach Volleyball Tournament
URL:http://beachvolleyball.co.nz/event/waikato-secondary-schools-beach-voll
 eyball-tournament/
END:VEVENT
BEGIN:VEVENT
UID:ai1ec-277@beachvolleyball.co.nz/wp
DTSTAMP:20210121T194757Z
CATEGORIES:
CONTACT:Dina Hinton\; 0273308727
DESCRIPTION:
DTSTART;VALUE=DATE:20181020
DTEND;VALUE=DATE:20181023
SEQUENCE:0
SUMMARY:Under 17 NZL Beach Volleyball Camp
URL:http://beachvolleyball.co.nz/event/17-nzl-beach-volleyball-camp/
X-COST-TYPE:free
END:VEVENT
BEGIN:VEVENT
UID:ai1ec-285@beachvolleyball.co.nz/wp
DTSTAMP:20210121T194757Z
CATEGORIES:
CONTACT:
DESCRIPTION:
DTSTART;VALUE=DATE:20181109
DTEND;VALUE=DATE:20181113
SEQUENCE:0
SUMMARY:Venue Booked – Armistice Day
URL:http://beachvolleyball.co.nz/event/venue-booked-armistice-day/
X-COST-TYPE:free
END:VEVENT
BEGIN:VEVENT
UID:ai1ec-294@beachvolleyball.co.nz/wp
DTSTAMP:20210121T194757Z
CATEGORIES;LANGUAGE=en-US:Competition
CONTACT:
DESCRIPTION:
DTSTART;VALUE=DATE:20190124
DTEND;VALUE=DATE:20190127
SEQUENCE:0
SUMMARY:Waikato Beach Volleyball Tournament
URL:http://beachvolleyball.co.nz/event/waikato-beach-vollleyball-tournament
 /
X-COST-TYPE:free
END:VEVENT
BEGIN:VEVENT
UID:ai1ec-305@beachvolleyball.co.nz/wp
DTSTAMP:20210121T194757Z
CATEGORIES:
CONTACT:Gerard Hay\; +64 22 681 3740\; ghay@hillcrest-high.school.nz
DESCRIPTION:
DTSTART;VALUE=DATE:20190227
DTEND;VALUE=DATE:20190228
SEQUENCE:0
SUMMARY:Venue booked -Hillcrest High
URL:http://beachvolleyball.co.nz/event/venue-booked-hillcrest-high/
X-COST-TYPE:free
END:VEVENT
BEGIN:VEVENT
UID:ai1ec-321@beachvolleyball.co.nz/wp
DTSTAMP:20210121T194757Z
CATEGORIES:
CONTACT:
DESCRIPTION:
DTSTART;VALUE=DATE:20191207
DTEND;VALUE=DATE:20191208
SEQUENCE:0
SUMMARY:Venue booked – BCD group – half day
URL:http://beachvolleyball.co.nz/event/venue-booked-bcd-group-half-day/
X-COST-TYPE:free
END:VEVENT
BEGIN:VEVENT
UID:ai1ec-334@beachvolleyball.co.nz/wp
DTSTAMP:20210121T194757Z
CATEGORIES:
CONTACT:
DESCRIPTION:
DTSTART;VALUE=DATE:20200223
DTEND;VALUE=DATE:20200224
SEQUENCE:0
SUMMARY:Beach Soccer Tournament – Te Awamutu football club – whole venue bo
 oked
URL:http://beachvolleyball.co.nz/event/beach-soccer-tournament-te-awamutu-f
 ootball-club-whole-venue-booked/
X-COST-TYPE:free
END:VEVENT
BEGIN:VEVENT
UID:ai1ec-336@beachvolleyball.co.nz/wp
DTSTAMP:20210121T194757Z
CATEGORIES:
CONTACT:Dean\; 0212540406
DESCRIPTION:
DTSTART;VALUE=DATE:20200407
DTEND;VALUE=DATE:20200408
SEQUENCE:0
SUMMARY:Surf-lifesaving flags and beach sprints day-HGHS
URL:http://beachvolleyball.co.nz/event/surf-lifesaving-flags-and-beach-spri
 nts-day-hghs/
X-COST-TYPE:free
END:VEVENT
BEGIN:VEVENT
UID:ai1ec-360@beachvolleyball.co.nz/wp
DTSTAMP:20210121T194757Z
CATEGORIES:
CONTACT:Gerard Hay\; +64 22 681 3740\; ghay@hillcrest-high.school.nz
DESCRIPTION:
DTSTART;VALUE=DATE:20201027
DTEND;VALUE=DATE:20201028
SEQUENCE:0
SUMMARY:Venue booked -Hillcrest High
URL:http://beachvolleyball.co.nz/event/venue-booked-hillcrest-high-2/
X-COST-TYPE:free
END:VEVENT
BEGIN:VEVENT
UID:ai1ec-361@beachvolleyball.co.nz/wp
DTSTAMP:20210121T194757Z
CATEGORIES:
CONTACT:
DESCRIPTION:
DTSTART;VALUE=DATE:20201107
DTEND;VALUE=DATE:20201109
SEQUENCE:0
SUMMARY:Venue Booked – Armistice Day – Desert Storm display
URL:http://beachvolleyball.co.nz/event/venue-booked-armistice-day-desert-st
 orm-display/
X-COST-TYPE:free
END:VEVENT
BEGIN:VEVENT
UID:ai1ec-354@beachvolleyball.co.nz/wp
DTSTAMP:20210121T194757Z
CATEGORIES:
CONTACT:Dave Miller\; dave@beachedazevents.com
DESCRIPTION:
DTSTART;VALUE=DATE:20201212
DTEND;VALUE=DATE:20201214
LOCATION:Karapiro Sand Courts @ Gate 3
SEQUENCE:0
SUMMARY:New Zealand Beach Tour
URL:http://beachvolleyball.co.nz/event/new-zealand-beach-tour/
X-COST-TYPE:free
END:VEVENT
BEGIN:VEVENT
UID:ai1ec-368@beachvolleyball.co.nz/wp
DTSTAMP:20210121T194757Z
CATEGORIES:
CONTACT:Hayley\; teawamutua.f.c@gmail.com
DESCRIPTION:
DTSTART;VALUE=DATE:20210307
DTEND;VALUE=DATE:20210308
SEQUENCE:0
SUMMARY:Te Awamutu Beach Soccer tournament-whole venue booked
URL:http://beachvolleyball.co.nz/event/te-awamutu-beach-soccer-tournament-w
 hole-venue-booked/
X-COST-TYPE:free
END:VEVENT
BEGIN:VEVENT
UID:ai1ec-266@beachvolleyball.co.nz/wp
DTSTAMP:20210121T194757Z
CATEGORIES:
CONTACT:Alison\; 0274824460\; alison@wrct.co.nz
DESCRIPTION:
DTSTART;TZID=Pacific/Auckland:20180122T050000
DTEND;TZID=Pacific/Auckland:20180122T060000
RRULE:FREQ=WEEKLY;UNTIL=20180312T105959Z
SEQUENCE:0
SUMMARY:Rock up n play Mondays
URL:http://beachvolleyball.co.nz/event/rock-n-play-mondays/
X-COST:Gold coin donation at the courts
END:VEVENT
BEGIN:VEVENT
UID:ai1ec-273@beachvolleyball.co.nz/wp
DTSTAMP:20210121T194757Z
CATEGORIES:
CONTACT:gayem@stpeters.school.nz
DESCRIPTION:
DTSTART;TZID=Pacific/Auckland:20180130T060000
DTEND;TZID=Pacific/Auckland:20180130T070000
SEQUENCE:0
SUMMARY:Venue booked – St Peters
URL:http://beachvolleyball.co.nz/event/venue-booked-st-peters-2-2/
END:VEVENT
BEGIN:VEVENT
UID:ai1ec-262@beachvolleyball.co.nz/wp
DTSTAMP:20210121T194757Z
CATEGORIES:
CONTACT:Louise Trappit
DESCRIPTION:
DTSTART;TZID=Pacific/Auckland:20180325T000000
DTEND;TZID=Pacific/Auckland:20180325T040000
SEQUENCE:0
SUMMARY:NZ FOOTBALL – Regional Beach Soccer finals
URL:http://beachvolleyball.co.nz/event/nz-football-regional-beach-soccer-fi
 nals/
END:VEVENT
BEGIN:VEVENT
UID:ai1ec-284@beachvolleyball.co.nz/wp
DTSTAMP:20210121T194757Z
CATEGORIES:
CONTACT:Stacey Naio
DESCRIPTION:
DTSTART;TZID=Pacific/Auckland:20181104T093000
DTEND;TZID=Pacific/Auckland:20181104T121500
SEQUENCE:0
SUMMARY:Court booked – private booking
URL:http://beachvolleyball.co.nz/event/court-booked-private-booking/
X-COST-TYPE:free
END:VEVENT
BEGIN:VEVENT
UID:ai1ec-287@beachvolleyball.co.nz/wp
DTSTAMP:20210121T194757Z
CATEGORIES;LANGUAGE=en-US:Training
CONTACT:Alison\; 0274824460\; alison@wrct.co.nz
DESCRIPTION:
DTSTART;TZID=Pacific/Auckland:20181105T180000
DTEND;TZID=Pacific/Auckland:20181105T190000
EXDATE;TZID=Pacific/Auckland:20181112T180000
RRULE:FREQ=WEEKLY;UNTIL=20181217T235959Z;BYDAY=MO;WKST=MO
SEQUENCE:0
SUMMARY:Rock up n play Mondays
URL:http://beachvolleyball.co.nz/event/rock-up-n-play-mondays/
X-COST-TYPE:free
X-COST:Gold coin
END:VEVENT
BEGIN:VEVENT
UID:ai1ec-290@beachvolleyball.co.nz/wp
DTSTAMP:20210121T194757Z
CATEGORIES;LANGUAGE=en-US:Training
CONTACT:Natalya Taylor
DESCRIPTION:
DTSTART;TZID=Pacific/Auckland:20181116T153000
DTEND;TZID=Pacific/Auckland:20181116T173000
SEQUENCE:0
SUMMARY:Private booking-1 court
URL:http://beachvolleyball.co.nz/event/private-booking-1-court/
X-COST-TYPE:free
END:VEVENT
BEGIN:VEVENT
UID:ai1ec-292@beachvolleyball.co.nz/wp
DTSTAMP:20210121T194757Z
CATEGORIES:
CONTACT:Raewyn - Southern Fresh foods\; raewyn@southernfresh.co.nz
DESCRIPTION:
DTSTART;TZID=Pacific/Auckland:20181204T150000
DTEND;TZID=Pacific/Auckland:20181204T163000
SEQUENCE:0
SUMMARY:1 court booked-Southern Foods
URL:http://beachvolleyball.co.nz/event/1-court-booked-southern-foods/
X-COST-TYPE:free
END:VEVENT
BEGIN:VEVENT
UID:ai1ec-296@beachvolleyball.co.nz/wp
DTSTAMP:20210121T194757Z
CATEGORIES:
CONTACT:Janey Wackrow\; Janeyc@stpeters.school.nz
DESCRIPTION:
DTSTART;TZID=Pacific/Auckland:20181205T110000
DTEND;TZID=Pacific/Auckland:20181205T120000
SEQUENCE:0
SUMMARY:Two courts booked – St Peters
URL:http://beachvolleyball.co.nz/event/two-courts-booked-st-peters/
X-COST-TYPE:free
END:VEVENT
BEGIN:VEVENT
UID:ai1ec-298@beachvolleyball.co.nz/wp
DTSTAMP:20210121T194757Z
CATEGORIES:
CONTACT:Carl Blackman - Camco\; 021 221 5904
DESCRIPTION:
DTSTART;TZID=Pacific/Auckland:20181221T110000
DTEND;TZID=Pacific/Auckland:20181221T160000
SEQUENCE:0
SUMMARY:Two courts booked – Camco
URL:http://beachvolleyball.co.nz/event/two-courts-booked-camco/
X-COST-TYPE:free
END:VEVENT
BEGIN:VEVENT
UID:ai1ec-299@beachvolleyball.co.nz/wp
DTSTAMP:20210121T194757Z
CATEGORIES;LANGUAGE=en-US:Training
CONTACT:Alison\; 0274824460\; alison@wrct.co.nz
DESCRIPTION:
DTSTART;TZID=Pacific/Auckland:20190107T180000
DTEND;TZID=Pacific/Auckland:20190107T190000
EXDATE;TZID=Pacific/Auckland:20190401T180000
RRULE:FREQ=WEEKLY;UNTIL=20190401T235959Z;BYDAY=MO;WKST=MO
SEQUENCE:0
SUMMARY:Rock up n play Mondays
URL:http://beachvolleyball.co.nz/event/rock-up-n-play-mondays-2/
X-COST-TYPE:free
X-COST:Gold coin
END:VEVENT
BEGIN:VEVENT
UID:ai1ec-307@beachvolleyball.co.nz/wp
DTSTAMP:20210121T194757Z
CATEGORIES:
CONTACT:
DESCRIPTION:
DTSTART;TZID=Pacific/Auckland:20190225T190000
DTEND;TZID=Pacific/Auckland:20190225T200000
SEQUENCE:0
SUMMARY:1 court booked – Horsham Downs school
URL:http://beachvolleyball.co.nz/event/1-court-booked-horsham-downs-school/
X-COST-TYPE:free
END:VEVENT
BEGIN:VEVENT
UID:ai1ec-309@beachvolleyball.co.nz/wp
DTSTAMP:20210121T194757Z
CATEGORIES:
CONTACT:
DESCRIPTION:
DTSTART;TZID=Pacific/Auckland:20190227T190000
DTEND;TZID=Pacific/Auckland:20190227T200000
SEQUENCE:0
SUMMARY:1 court booked – Horsham Downs school
URL:http://beachvolleyball.co.nz/event/1-court-booked-horsham-downs-school-
 2/
X-COST-TYPE:free
END:VEVENT
BEGIN:VEVENT
UID:ai1ec-315@beachvolleyball.co.nz/wp
DTSTAMP:20210121T194757Z
CATEGORIES:
CONTACT:
DESCRIPTION:
DTSTART;TZID=Pacific/Auckland:20190317T130000
DTEND;TZID=Pacific/Auckland:20190317T140000
SEQUENCE:0
SUMMARY:New Life church – 2 courts booked
URL:http://beachvolleyball.co.nz/event/new-life-church-2-courts-booked/
X-COST-TYPE:free
END:VEVENT
BEGIN:VEVENT
UID:ai1ec-314@beachvolleyball.co.nz/wp
DTSTAMP:20210121T194757Z
CATEGORIES:
CONTACT:
DESCRIPTION:
DTSTART;TZID=Pacific/Auckland:20190319T164500
DTEND;TZID=Pacific/Auckland:20190319T174500
SEQUENCE:0
SUMMARY:DOC – 4 courts booked
URL:http://beachvolleyball.co.nz/event/doc-4-courts-booked/
X-COST-TYPE:free
END:VEVENT
BEGIN:VEVENT
UID:ai1ec-313@beachvolleyball.co.nz/wp
DTSTAMP:20210121T194757Z
CATEGORIES:
CONTACT:
DESCRIPTION:
DTSTART;TZID=Pacific/Auckland:20190319T180000
DTEND;TZID=Pacific/Auckland:20190319T190000
SEQUENCE:0
SUMMARY:Melville High School – 2 courts booked
URL:http://beachvolleyball.co.nz/event/melville-high-school-2-courts-booked
 -4/
X-COST-TYPE:free
END:VEVENT
BEGIN:VEVENT
UID:ai1ec-312@beachvolleyball.co.nz/wp
DTSTAMP:20210121T194757Z
CATEGORIES:
CONTACT:
DESCRIPTION:
DTSTART;TZID=Pacific/Auckland:20190321T180000
DTEND;TZID=Pacific/Auckland:20190321T190000
SEQUENCE:0
SUMMARY:Melville High School – 2 courts booked
URL:http://beachvolleyball.co.nz/event/melville-high-school-2-courts-booked
 -3/
X-COST-TYPE:free
END:VEVENT
BEGIN:VEVENT
UID:ai1ec-316@beachvolleyball.co.nz/wp
DTSTAMP:20210121T194757Z
CATEGORIES;LANGUAGE=en-US:Training
CONTACT:Alison\; 0274824460\; alison@wrct.co.nz
DESCRIPTION:
DTSTART;TZID=Pacific/Auckland:20190401T180000
DTEND;TZID=Pacific/Auckland:20190401T190000
SEQUENCE:0
SUMMARY:Rock up n play Mondays-LAST ONE FOR THIS SUMMER!
URL:http://beachvolleyball.co.nz/event/rock-up-n-play-mondays-last-one-for-
 this-summer/
X-COST-TYPE:free
X-COST:Gold coin
END:VEVENT
BEGIN:VEVENT
UID:ai1ec-322@beachvolleyball.co.nz/wp
DTSTAMP:20210121T194757Z
CATEGORIES:
CONTACT:
DESCRIPTION:
DTSTART;TZID=Pacific/Auckland:20191104T180000
DTEND;TZID=Pacific/Auckland:20191104T190000
RRULE:FREQ=WEEKLY;UNTIL=20191223T235959Z;BYDAY=MO;WKST=MO
SEQUENCE:0
SUMMARY:Rock up n Play Mondays
URL:http://beachvolleyball.co.nz/event/rock-up-n-play-mondays-3/
X-COST-TYPE:free
END:VEVENT
BEGIN:VEVENT
UID:ai1ec-324@beachvolleyball.co.nz/wp
DTSTAMP:20210121T194757Z
CATEGORIES:
CONTACT:
DESCRIPTION:
DTSTART;TZID=Pacific/Auckland:20191112T130000
DTEND;TZID=Pacific/Auckland:20191112T140000
SEQUENCE:0
SUMMARY:1 Court booked – DOC
URL:http://beachvolleyball.co.nz/event/1-court-booked-doc/
X-COST-TYPE:free
END:VEVENT
BEGIN:VEVENT
UID:ai1ec-332@beachvolleyball.co.nz/wp
DTSTAMP:20210121T194757Z
CATEGORIES:
CONTACT:
DESCRIPTION:
DTSTART;TZID=Pacific/Auckland:20191203T140000
DTEND;TZID=Pacific/Auckland:20191203T150000
SEQUENCE:0
SUMMARY:St Peters 2 courts booked
URL:http://beachvolleyball.co.nz/event/st-peters-2-courts-booked/
X-COST-TYPE:free
END:VEVENT
BEGIN:VEVENT
UID:ai1ec-325@beachvolleyball.co.nz/wp
DTSTAMP:20210121T194757Z
CATEGORIES:
CONTACT:
DESCRIPTION:
DTSTART;TZID=Pacific/Auckland:20191205T120000
DTEND;TZID=Pacific/Auckland:20191205T170000
SEQUENCE:0
SUMMARY:2 courts booked – Southern Fresh
URL:http://beachvolleyball.co.nz/event/2-courts-booked-southern-fresh/
X-COST-TYPE:free
END:VEVENT
BEGIN:VEVENT
UID:ai1ec-339@beachvolleyball.co.nz/wp
DTSTAMP:20210121T194757Z
CATEGORIES:
CONTACT:Alison\; 0274824460
DESCRIPTION:
DTSTART;TZID=Pacific/Auckland:20191230T180000
DTEND;TZID=Pacific/Auckland:20191230T190000
RRULE:FREQ=WEEKLY;UNTIL=20200323T235959Z;BYDAY=MO;WKST=MO
SEQUENCE:0
SUMMARY:Rock up n Play
URL:http://beachvolleyball.co.nz/event/rock-up-n-play/
X-COST-TYPE:free
X-COST:Gold coin donation
END:VEVENT
BEGIN:VEVENT
UID:ai1ec-337@beachvolleyball.co.nz/wp
DTSTAMP:20210121T194757Z
CATEGORIES:
CONTACT:
DESCRIPTION:
DTSTART;TZID=Pacific/Auckland:20200203T093000
DTEND;TZID=Pacific/Auckland:20200203T103000
SEQUENCE:0
SUMMARY:1 court booked – Cookes
URL:http://beachvolleyball.co.nz/event/1-court-booked-cookes/
X-COST-TYPE:free
END:VEVENT
BEGIN:VEVENT
UID:ai1ec-338@beachvolleyball.co.nz/wp
DTSTAMP:20210121T194757Z
CATEGORIES:
CONTACT:
DESCRIPTION:
DTSTART;TZID=Pacific/Auckland:20200206T160000
DTEND;TZID=Pacific/Auckland:20200206T190000
SEQUENCE:0
SUMMARY:New Life Church – 1 court booked
URL:http://beachvolleyball.co.nz/event/new-life-church-1-court-booked/
X-COST-TYPE:free
END:VEVENT
BEGIN:VEVENT
UID:ai1ec-345@beachvolleyball.co.nz/wp
DTSTAMP:20210121T194757Z
CATEGORIES:
CONTACT:Maria\; Maria.Cameron@anz.com
DESCRIPTION:
DTSTART;TZID=Pacific/Auckland:20200305T160000
DTEND;TZID=Pacific/Auckland:20200305T170000
SEQUENCE:0
SUMMARY:2 courts booked – ANZ
URL:http://beachvolleyball.co.nz/event/2-courts-booked-anz/
X-COST-TYPE:free
END:VEVENT
BEGIN:VEVENT
UID:ai1ec-341@beachvolleyball.co.nz/wp
DTSTAMP:20210121T194757Z
CATEGORIES:
CONTACT:Todd Barker\; 021 664 847\; Toddb@stpeters.school.nz
DESCRIPTION:
DTSTART;TZID=Pacific/Auckland:20200307T070000
DTEND;TZID=Pacific/Auckland:20200307T120000
SEQUENCE:0
SUMMARY:Venue booked-St Peters 1st XV training
URL:http://beachvolleyball.co.nz/event/venue-booked-st-peters-1st-xv-traini
 ng/
X-COST-TYPE:free
END:VEVENT
BEGIN:VEVENT
UID:ai1ec-346@beachvolleyball.co.nz/wp
DTSTAMP:20210121T194757Z
CATEGORIES:
CONTACT:Paul Hughes
DESCRIPTION:NO charge
DTSTART;TZID=Pacific/Auckland:20200308T143000
DTEND;TZID=Pacific/Auckland:20200308T153000
SEQUENCE:0
SUMMARY:2 courts booked- Leamington Rugby Club
URL:http://beachvolleyball.co.nz/event/2-courts-booked-leamington-rugby-clu
 b/
X-COST-TYPE:free
X-ALT-DESC;FMTTYPE=text/html:<!DOCTYPE HTML PUBLIC '-//W3C//DTD HTML 3.2//E
 N'>\\n<HTML>\\n<HEAD>\\n<TITLE></TITLE>\\n</HEAD>\\n<BODY><p>NO charge</p>
 \n</BODY></HTML>
END:VEVENT
BEGIN:VEVENT
UID:ai1ec-366@beachvolleyball.co.nz/wp
DTSTAMP:20210121T194757Z
CATEGORIES:
CONTACT:Alison\; 0274824460
DESCRIPTION:
DTSTART;TZID=Pacific/Auckland:20210111T180000
DTEND;TZID=Pacific/Auckland:20210111T190000
RRULE:FREQ=WEEKLY;UNTIL=20210316T235959Z;BYDAY=MO;WKST=MO
SEQUENCE:0
SUMMARY:Rock up n Play
URL:http://beachvolleyball.co.nz/event/rock-up-n-play-2/
X-COST-TYPE:free
X-COST:Gold coin donation
END:VEVENT
BEGIN:VEVENT
UID:ai1ec-364@beachvolleyball.co.nz/wp
DTSTAMP:20210121T194757Z
CATEGORIES:
CONTACT:Katie\; 0226192980
DESCRIPTION:
DTSTART;TZID=Pacific/Auckland:20210314T120000
DTEND;TZID=Pacific/Auckland:20210314T160000
SEQUENCE:0
SUMMARY:One court booked – Hillcrest Baptist Church
URL:http://beachvolleyball.co.nz/event/one-court-booked-hillcrest-baptist-c
 hurch/
X-COST-TYPE:free
END:VEVENT
END:VCALENDAR
